{"text_format":"1","workbook":"xlsx","n_sheets":4,"sheets":["Foglio1","Calculation","VL+demister","Foglio2"],"not_rendered":{"charts":1,"images":0,"macros":1,"external_links":0,"defined_names":66,"comments":0,"pivot_tables":0},"unopened":[],"bounds":{"document_bytes":16777216,"sheet_cells":100000,"rows_first":2000,"rows_last":500,"rows_between":2000,"halvings":0,"cell_chars":16384,"cell_head_chars":4096},"cells_cut":0,"cells_raw":0,"read":"whole","date_system":"1900"}

{"sheet":"Foglio1","index":0,"n_rows":139,"n_cols":42,"rows_kept":139,"cut":false,"hidden":false,"merged":[[137,23,137,26],[137,27,137,30],[138,2,138,4],[138,5,138,17],[138,18,138,22],[138,23,138,26],[138,27,138,30],[118,31,118,34],[118,35,118,41],[119,31,119,34],[119,35,119,41],[120,31,120,34],[120,35,120,41],[121,31,121,34],[121,35,121,41],[122,31,122,34],[122,35,122,41],[134,18,134,22],[134,23,134,26],[134,27,134,30],[137,31,137,34],[137,35,137,41],[138,31,138,34],[138,35,138,41],[135,2,135,4],[135,5,135,17],[135,18,135,22],[135,23,135,26],[135,27,135,30],[136,2,136,4],[136,5,136,17],[136,18,136,22],[136,23,136,26],[136,27,136,30],[135,31,135,34],[135,35,135,41],[136,31,136,34],[136,35,136,41],[137,2,137,4],[137,5,137,17],[137,18,137,22],[133,35,133,41],[134,31,134,34],[134,35,134,41],[131,2,131,4],[131,5,131,17],[131,18,131,22],[131,23,131,26],[131,27,131,30],[132,2,132,4],[132,5,132,17],[132,18,132,22],[132,23,132,26],[132,27,132,30],[131,31,131,34],[131,35,131,41],[132,31,132,34],[132,35,132,41],[133,2,133,4],[133,5,133,17],[133,18,133,22],[133,23,133,26],[133,27,133,30],[134,2,134,4],[134,5,134,17],[129,23,129,26],[129,27,129,30],[130,2,130,4],[130,5,130,17],[130,23,130,26],[130,27,130,30],[129,18,129,22],[130,18,130,22],[133,31,133,34],[126,23,126,26],[126,27,126,30],[125,18,125,22],[126,18,126,22],[129,31,129,34],[129,35,129,41],[130,31,130,34],[130,35,130,41],[127,2,127,4],[127,5,127,17],[127,23,127,26],[127,27,127,30],[128,2,128,4],[128,5,128,17],[128,23,128,26],[128,27,128,30],[127,18,127,22],[128,18,128,22],[127,31,127,34],[127,35,127,41],[128,31,128,34],[128,35,128,41],[129,2,129,4],[129,5,129,17],[125,31,125,34],[125,35,125,41],[126,31,126,34],[126,35,126,41],[123,2,123,4],[123,5,123,17],[123,23,123,26],[123,27,123,30],[124,2,124,4],[124,5,124,17],[124,23,124,26],[124,27,124,30],[123,18,123,22],[124,18,124,22],[123,31,123,34],[123,35,123,41],[124,31,124,34],[124,35,124,41],[125,2,125,4],[125,5,125,17],[125,23,125,26],[125,27,125,30],[126,2,126,4],[126,5,126,17],[121,2,121,4],[121,5,121,17],[121,23,121,26],[121,27,121,30],[122,2,122,4],[122,5,122,17],[122,23,122,26],[122,27,122,30],[121,18,121,22],[122,18,122,22],[119,2,119,4],[119,5,119,17],[119,23,119,26],[119,27,119,30],[120,2,120,4],[120,5,120,17],[120,23,120,26],[120,27,120,30],[119,18,119,22],[120,18,120,22],[107,3,109,3],[80,3,82,3],[81,24,81,32],[81,33,81,35],[81,36,81,41],[118,2,118,4],[118,5,118,17],[118,23,118,26],[118,27,118,30],[118,18,118,22],[94,24,94,41],[96,24,96,32],[96,33,96,35],[96,36,96,41],[86,24,86,41],[87,24,87,32],[87,33,87,35],[87,36,87,41],[88,24,88,32],[88,33,88,35],[88,36,88,41],[89,24,89,32],[90,12,90,14],[91,21,93,21],[78,24,78,41],[48,2,48,10],[48,11,48,13],[48,14,48,21],[33,2,33,8],[33,9,33,11],[33,12,33,16],[33,17,33,21],[28,22,28,30],[28,31,28,33],[28,34,28,41],[29,2,29,41],[30,22,30,31],[30,32,30,36],[30,37,30,41],[33,22,33,28],[33,29,33,31],[33,32,33,36],[33,37,33,41],[32,22,32,28],[32,29,32,31],[32,32,32,36],[32,37,32,41],[53,2,53,21],[79,24,79,32],[79,33,79,35],[79,36,79,41],[80,24,80,32],[80,33,80,35],[80,36,80,41],[95,24,95,32],[95,33,95,35],[95,36,95,41],[89,33,89,35],[89,36,89,41],[30,2,30,11],[30,12,30,16],[30,17,30,21],[31,2,31,8],[31,9,31,11],[31,12,31,16],[31,17,31,21],[31,22,31,28],[31,29,31,31],[32,17,32,21],[57,2,57,10],[57,11,57,13],[57,14,57,21],[50,2,50,10],[50,11,50,13],[50,14,50,21],[51,2,51,10],[51,11,51,13],[51,14,51,21],[56,2,56,10],[56,11,56,13],[56,14,56,21],[55,2,55,10],[55,11,55,13],[55,14,55,21],[97,6,99,6],[101,6,103,6],[104,6,106,6],[38,22,38,30],[38,31,38,33],[38,34,38,41],[75,1,76,42],[73,20,74,22],[73,23,74,30],[74,36,74,37],[71,20,72,22],[71,23,72,30],[71,31,71,34],[72,31,72,34],[42,22,42,31],[42,32,42,36],[68,2,68,41],[62,22,62,28],[62,29,62,31],[88,19,88,21],[39,34,39,37],[39,38,39,41],[39,22,39,30],[39,31,39,33],[48,37,48,41],[45,37,45,41],[42,37,42,41],[43,22,43,28],[43,29,43,31],[43,32,43,36],[43,37,43,41],[44,22,44,28],[44,29,44,31],[44,32,44,36],[44,37,44,41],[45,22,45,28],[45,29,45,31],[45,32,45,36],[28,2,28,10],[28,11,28,13],[28,14,28,21],[40,11,40,13],[40,14,40,21],[41,2,41,10],[41,11,41,13],[36,2,36,10],[36,11,36,13],[37,2,37,10],[37,11,37,13],[38,2,38,10],[38,11,38,13],[34,2,34,41],[40,31,40,33],[40,34,40,41],[41,22,41,30],[41,31,41,33],[41,34,41,41],[31,32,31,36],[31,37,31,41],[32,2,32,8],[32,9,32,11],[32,12,32,16],[36,31,36,33],[36,34,36,41],[44,11,44,13],[44,14,44,21],[40,2,40,10],[54,14,54,21],[39,14,39,21],[41,14,41,21],[54,2,54,10],[36,14,36,21],[37,14,37,21],[39,2,39,10],[39,11,39,13],[47,14,47,21],[44,2,44,10],[38,14,38,17],[38,18,38,21],[54,11,54,13],[47,22,47,31],[47,32,47,36],[47,37,47,41],[48,22,48,28],[48,29,48,31],[48,32,48,36],[27,2,27,10],[24,20,24,21],[25,20,25,21],[25,15,25,19],[21,15,21,19],[22,15,22,19],[23,15,23,19],[24,15,24,19],[21,20,21,21],[22,20,22,21],[23,20,23,21],[20,10,20,14],[20,2,20,9],[21,2,21,7],[22,2,22,7],[23,2,23,7],[24,2,24,7],[25,2,25,7],[22,8,22,9],[23,8,23,9],[24,8,24,9],[25,8,25,9],[21,8,21,9],[21,10,21,14],[22,10,22,14],[23,10,23,14],[24,10,24,14],[25,10,25,14],[19,31,19,33],[19,34,19,41],[24,31,24,33],[24,34,24,41],[23,22,23,30],[23,31,23,33],[23,34,23,41],[50,37,50,41],[43,2,43,21],[47,2,47,10],[49,22,49,28],[49,32,49,36],[49,37,49,41],[46,2,46,10],[46,11,46,13],[46,14,46,21],[49,2,49,10],[49,11,49,13],[49,14,49,21],[21,22,21,30],[21,31,21,33],[21,34,21,41],[26,2,26,41],[50,22,50,28],[10,31,10,33],[10,34,10,41],[18,22,18,41],[9,31,9,33],[15,22,15,30],[15,31,15,33],[15,34,15,41],[16,22,16,30],[16,31,16,33],[16,34,16,41],[13,22,13,41],[11,22,11,41],[12,22,12,30],[12,31,12,33],[12,34,12,41],[8,34,8,41],[14,31,14,33],[14,34,14,41],[22,31,22,33],[22,34,22,41],[27,11,27,13],[17,31,17,33],[17,34,17,41],[27,14,27,21],[9,34,9,41],[8,31,8,33],[25,31,25,33],[25,34,25,41],[8,22,8,30],[12,12,12,16],[13,9,13,11],[14,9,14,11],[10,9,10,11],[9,12,9,16],[10,12,10,16],[9,17,9,21],[9,22,9,30],[10,22,10,30],[14,22,14,30],[1,35,1,42],[1,20,2,22],[3,20,4,22],[1,23,2,30],[3,23,4,30],[1,31,1,34],[4,36,4,37],[7,2,7,21],[7,22,7,41],[2,31,2,34],[2,35,2,42],[4,41,4,42],[5,34,6,42],[5,1,6,33],[8,2,8,11],[13,2,13,8],[14,2,14,8],[12,2,12,11],[11,2,11,21],[9,2,9,8],[10,2,10,8],[9,9,9,11],[10,17,10,21],[8,12,8,16],[8,17,8,21],[12,17,12,21],[13,17,13,21],[14,17,14,21],[15,17,15,21],[16,17,16,21],[17,17,17,21],[13,12,13,16],[14,12,14,16],[15,12,15,16],[16,12,16,16],[17,12,17,16],[18,12,18,16],[15,2,15,8],[15,9,15,11],[16,2,16,8],[16,9,16,11],[17,2,17,8],[71,35,71,42],[72,35,72,42],[74,41,74,42],[18,9,18,10],[24,22,24,30],[25,22,25,30],[19,2,19,21],[20,22,20,30],[20,31,20,33],[20,34,20,41],[18,2,18,8],[53,22,53,41],[54,22,54,31],[17,9,17,11],[18,17,18,21],[22,22,22,30],[17,22,17,30],[19,22,19,30],[51,22,51,28],[62,32,62,36],[62,37,62,41],[57,22,57,28],[57,29,57,31],[57,32,57,36],[57,37,57,41],[59,32,59,36],[59,37,59,41],[58,22,58,41],[59,22,59,31],[55,37,55,41],[56,22,56,28],[56,29,56,31],[45,2,45,10],[45,11,45,13],[45,14,45,21],[35,2,35,21],[56,32,56,36],[56,37,56,41],[50,29,50,31],[50,32,50,36],[40,22,40,30],[35,22,35,41],[52,22,52,28],[52,29,52,31],[52,32,52,36],[52,37,52,41],[51,37,51,41],[46,22,46,41],[49,29,49,31],[37,22,37,30],[37,31,37,33],[37,34,37,41],[36,22,36,30],[89,6,91,6],[93,12,93,14],[93,3,95,3],[85,21,87,21],[117,2,117,41],[27,22,27,30],[27,31,27,33],[27,34,27,41],[51,29,51,31],[51,32,51,36],[47,11,47,13],[60,22,60,28],[60,29,60,31],[60,32,60,36],[60,37,60,41],[61,22,61,28],[61,29,61,31],[61,32,61,36],[61,37,61,41],[54,32,54,36],[54,37,54,41],[55,22,55,28],[55,29,55,31],[55,32,55,36]]}
[]
[null,null,null,null,null,null,null,null,null,null,null,null,null,null,null,null,null,null,null,null,"Client",null,null,null,null,null,null,null,null,null,null,"Job"]
[null,null,null,null,null,null,null,null,null,null,null,null,null,null,null,null,null,null,null,null,null,null,null,null,null,null,null,null,null,null,null,"Unit"]
[null,null,null,null,null,null,null,null,null,null,null,null,null,null,null,null,null,null,null,null,"Plant"]
[null,null,null,null,null,null,null,null,null,null,null,null,null,null,null,null,null,null,null,null,null,null,null,null,null,null,null,null,null,null,null,"Sheet",null,null,null,null,1,null,null,"of",null,2]
[null,"V/L SEPARATOR PROCESS CALCULATION SHEET",null,null,null,null,null,null,null,null,null,null,null,null,null,null,null,null,null,null,null,null,null,null,null,null,null,null,null,null,null,null,null,null," V. 0.1b by M.Meloni"]
[]
[null,1,"OPERATING AND DESIGN CONDITIONS",null,null,null,null,null,null,null,null,null,null,null,null,null,null,null,null,null,null,null,"VESSEL AND INTERNAL OPTIONS"]
[null,2,null,null,null,null,null,null,null,null,null,null,"OPERATING",null,null,null,null,"DESIGN",null,null,null,null,"Internal diameter",null,null,null,null,null,null,null,null,"mm",null,null,1200]
[null,3,"Temperature",null,null,null,null,null,null,"°C",null,null,45,null,null,null,null,60,null,null,null,null,"Top head type",null,null,null,null,null,null,null,null,null,null,null,"Emispherical"]
[null,4,"Pressure",null,null,null,null,null,null,"Bar a",null,null,1,null,null,null,null,1,null,null,null,null,"Bottom head type",null,null,null,null,null,null,null,null,null,null,null,"Emispherical"]
[null,5,"PROCESS DATA",null,null,null,null,null,null,null,null,null,null,null,null,null,null,null,null,null,null,null,"CRITICAL VELOCITY"]
[null,6,null,null,null,null,null,null,null,null,null,null,"VAPOUR",null,null,null,null,"LIQUID",null,null,null,null,"Max allowable velocity",null,null,null,null,null,null,null,null,"%Vc",null,null,100]
[null,7,"Mass flow rate",null,null,null,null,null,null,"kg/h",null,null,5000,null,null,null,null,5000,null,null,null,null,"DEMISTER/VANE PACK AND OTHER"]
[null,8,"Density",null,null,null,null,null,null,"kg/m3",null,null,1.1200000000000001,null,null,null,null,1000,null,null,null,null,"Demister/Vane pack",null,null,null,null,null,null,null,null,null,null,null,"Demister"]
[null,9,"Viscosity",null,null,null,null,null,null,"cP",null,null,0.01,null,null,null,null,1.1499999999999999,null,null,null,null,"Demister height",null,null,null,null,null,null,null,null,"mm",null,null,150]
[null,10,"MW",null,null,null,null,null,null,null,null,null,28.8,null,null,null,null,18,null,null,null,null,"Demister diameter",null,null,null,null,null,null,null,null,"mm",null,null,1100]
[null,11,"Surface tension",null,null,null,null,null,null,"dyne/cm",null,null,null,null,null,null,null,30,null,null,null,null,"Vortex breaker on bottom",null,null,null,null,null,null,null,null,null,null,null,"None"]
[null,12,"Z factor",null,null,null,null,null,null,null,null,null,0.98,null,null,null,null,null,null,null,null,null,"MAIN NOZZLE OPTIONS"]
[null,13,"LEVELS",null,null,null,null,null,null,null,null,null,null,null,null,null,null,null,null,null,null,null,"Inlet nozzle DN",null,null,null,null,null,null,null,null,"mm",null,null,250]
[null,14,null,null,null,null,null,null,null,null,"SELECTED",null,null,null,null,"HOLD UP TIME",null,null,null,null,null,null,"Inlet NZ distance from HHLL",null,null,null,null,null,null,null,null,"mm",null,null,300]
[null,15,"HHLL - HLL",null,null,null,null,null,"mm",null,250,null,null,null,null,{"$f":"HHLLtime","v":3.3929200658769769},null,null,null,null,"min",null,"Inlet NZ distance from UTL",null,null,null,null,null,null,null,null,"mm",null,null,1600]
[null,16,"HLL - NLL",null,null,null,null,null,"mm",null,250,null,null,null,null,{"$f":"HLLtime","v":3.3929200658769769},null,null,null,null,"min",null,"Inlet device",null,null,null,null,null,null,null,null,null,null,null,"Internal deflector"]
[null,17,"NLL - LLL",null,null,null,null,null,"mm",null,250,null,null,null,null,{"$f":"NLLtime","v":3.3929200658769769},null,null,null,null,"min",null,"Inlet position",null,null,null,null,null,null,null,null,null,null,null,"None"]
[null,18,"LLL - LLLL",null,null,null,null,null,"mm",null,250,null,null,null,null,{"$f":"LLLtime","v":3.3929200658769769},null,null,null,null,"min",null,"Vapour outlet nozzle",null,null,null,null,null,null,null,null,"mm",null,null,250]
[null,19,"LLLL - T.L.",null,null,null,null,null,"mm",null,300,null,null,null,null,{"$f":"LLLLtime","v":4.0715040790523718},null,null,null,null,"min",null,"Liquid outlet nozzle",null,null,null,null,null,null,null,null,"mm",null,null,50]
[null,20,"MATERIALS"]
[null,21,"Shell and heads material",null,null,null,null,null,null,null,null,null,null,null,"Carbon steel",null,null,null,null,null,null,null,"Corrosion allowance",null,null,null,null,null,null,null,null,"mm",null,null,3]
[null,22,"Shell thickness",null,null,null,null,null,null,null,null,"mm",null,null,5,null,null,null,null,null,null,null,"Head thickness",null,null,null,null,null,null,null,null,"mm",null,null,3]
[null,23,"AUXILIARY NOZZLES"]
[null,24,null,null,null,null,null,null,null,null,null,null,"SELECTED",null,null,null,null,"SUGGESTED",null,null,null,null,null,null,null,null,null,null,null,null,null,null,"SELECTED",null,null,null,null,"SUGGESTED"]
[null,25,"Vent",null,null,null,null,null,null,"mm",null,null,{"$f":"R32","v":50},null,null,null,null,{"$f":"vent_size(Volume)","v":50},null,null,null,null,"Drain",null,null,null,null,null,null,"mm",null,null,{"$f":"AL32","v":50},null,null,null,null,{"$f":"drain_size(Volume)","v":50}]
[null,null,"Steam-out",null,null,null,null,null,null,"mm",null,null,{"$f":"R33","v":50},null,null,null,null,{"$f":"steamout_size(Volume)","v":50},null,null,null,null,"Manhole",null,null,null,null,null,null,"mm",null,null,600,null,null,null,null,{"$f":"manhole_size(O45)","v":600}]
[null,null,"Pump recycle",null,null,null,null,null,null,"mm",null,null,50,null,null,null,null,null,null,null,null,null,"Relief/PSV",null,null,null,null,null,null,"mm",null,null,100]
[null,26,"RESULTS"]
[null,27,"SEPARATION PERFORMANCE",null,null,null,null,null,null,null,null,null,null,null,null,null,null,null,null,null,null,null,"DEMISTER/VANE PACK PERFORMANCE"]
[null,28,"Critical velocity",null,null,null,null,null,null,null,null,"m/s",null,null,{"$f":"Vc","v":2.0904784141435186},null,null,null,null,null,null,null,"K-value max",null,null,null,null,null,null,null,null,"m/s",null,null,{"$f":"Demister_K","v":0.06}]
[null,29,"Max allowable velocity",null,null,null,null,null,null,null,null,"m/s",null,null,{"$f":"maxallowVc","v":2.0904784141435186},null,null,null,null,null,null,null,"Max allowable velocity",null,null,null,null,null,null,null,null,"m/s",null,null,{"$f":"Demister_critV","v":1.7918386406944442}]
[null,30,"Actual velocity",null,null,null,null,null,null,null,null,"m/s",null,null,{"$f":"actualvelocity","v":1.0964708932146667},null,null,null,{"$f":"O39/O38","v":0.52450715864669539},null,null,null,"Suggested design velocity",null,null,null,null,null,null,null,null,"m/s",null,null,{"$f":"Calculation!B80","v":1.4334709125555554}]
[null,31,"Droplet diameter w/o dem.",null,null,null,null,null,null,null,null,"um",null,null,{"$f":"dropletdiam","v":225.99999999999949},null,null,null,null,null,null,null,"Actual velocity (demister diam.)",null,null,null,null,null,null,null,null,"m/s",null,null,{"$f":"Demister_actV","v":1.3048909803546449},null,null,null,{"$f":"AI40/AI38","v":0.72824134423673437}]
[null,32,"Droplet diameter with dem.",null,null,null,null,null,null,null,null,"um",null,null,{"$f":"dropletwithdemister","v":"99.5% <10 micron"},null,null,null,null,null,null,null,"Min speed (performance)",null,null,null,null,null,null,null,null,"m/s",null,null,{"$f":"AI38*30%","v":0.53755159220833326}]
[null,33,"Separation efficiency",null,null,null,null,null,null,null,null,"%wt",null,null,null,null,null,null,null,null,null,null,"Wet pressure drop demister",null,null,null,null,null,null,null,null,"mmH2O",null,null,{"$f":"Demister_pressuredrop","v":9.6688414883169695}]
[null,34,null,null,null,null,null,null,null,null,null,null,null,null,null,null,null,null,null,null,null,null,"DISTANCES AND DIAMETER",null,null,null,null,null,null,null,null,null,"SELECTED",null,null,null,null,"MINIMUM"]
[null,35,"MAIN DIMENSIONS",null,null,null,null,null,null,null,null,null,null,null,null,null,null,null,null,null,null,null,"Distance from inlet NZ",null,null,null,null,null,null,"mm",null,null,{"$f":"AG53-Distance_dem_UTL","v":1100}]
[null,36,"Internal Diameter",null,null,null,null,null,null,null,null,"mm",null,null,{"$f":"Diameter","v":1200},null,null,null,null,null,null,null,"Distance from upper TL",null,null,null,null,null,null,"mm",null,null,500,null,null,null,null,{"$f":"Dem_distanceUTL","v":550}]
[null,37,"TLTL height",null,null,null,null,null,null,null,null,"mm",null,null,{"$f":"TLTL_Height","v":3200},null,null,null,null,null,null,null,"Diameter",null,null,null,null,null,null,"mm",null,null,{"$f":"Demister_D","v":1100},null,null,null,null,{"$f":"Demister_minD","v":938.70763634182106}]
[null,38,"Total height",null,null,null,null,null,null,null,null,"mm",null,null,{"$f":"Total_Height","v":4400},null,null,null,null,null,null,null,"INLET NOZZLE"]
[null,39,"Volume TL/TL",null,null,null,null,null,null,null,null,"m3",null,null,{"$f":"VolumeTLTL","v":4.9762827632862328},null,null,null,null,null,null,null,null,null,null,null,null,null,null,null,null,null,"SELECTED",null,null,null,null,"SUGGESTED"]
[null,40,"Liquid volume (HHLL-outlet NZ)",null,null,null,null,null,null,null,null,"m3",null,null,{"$f":"Calculation!B59","v":1.9226543218800232},null,null,null,null,null,null,null,"Inlet nozzle",null,null,null,null,null,null,"mm",null,null,{"$f":"AI20","v":250}]
[null,41,"Total volume",null,null,null,null,null,null,null,null,"m3",null,null,{"$f":"Volume","v":5.8810606832862335},null,null,null,null,null,null,null,"Vapour velocity",null,null,null,null,null,null,"m/s",null,null,{"$f":"inlet_n_vel","v":25.290983591771148}]
[null,42,"Cross sectional area",null,null,null,null,null,null,null,null,"m2",null,null,{"$f":"Calculation!B1","v":1.1309733552923256},null,null,null,null,null,null,null,"RhoV2",null,null,null,null,null,null,"Pa",null,null,{"$f":"rhov2_inN","v":1431.1769081907187}]
[null,43,"L/D",null,null,null,null,null,null,null,null,null,null,null,{"$f":"O46/O45","v":2.6666666666666665},null,null,null,null,null,null,null,"Inlet NZ distance HHLL",null,null,null,null,null,null,"mm",null,null,{"$f":"AI21","v":300},null,null,null,null,{"$f":"Inlet_distance_from_HHLL","v":450}]
[null,44,null,null,null,null,null,null,null,null,null,null,null,null,null,null,null,null,null,null,null,null,"Inlet distance UTL",null,null,null,null,null,null,"mm",null,null,{"$f":"AI22","v":1600},null,null,null,null,{"$f":"InletNZ_distance_top","v":1600}]
[null,45,"WEIGHT",null,null,null,null,null,null,null,null,null,null,null,null,null,null,null,null,null,null,null,"VAPOUR OUTLET NOZZLE"]
[null,46,"Shell",null,null,null,null,null,null,null,null,"kg",null,null,{"$f":"Calculation!B91","v":762.65202727580515},null,null,null,null,null,null,null,null,null,null,null,null,null,null,null,null,null,"SELECTED",null,null,null,null,"SUGGESTED"]
[null,47,"Heads",null,null,null,null,null,null,null,null,"kg",null,null,{"$f":"Calculation!B92+Calculation!B93","v":215.21305466827107},null,null,null,null,null,null,null,"Vap. Outlet nozzle",null,null,null,null,null,null,"mm",null,null,{"$f":"Outlet_nozzle_DN","v":250}]
[null,48,"Auxiliary nozzles/manhole",null,null,null,null,null,null,null,null,"kg",null,null,null,null,null,null,null,null,null,null,"Vapour velocity",null,null,null,null,null,null,"m/s",null,null,{"$f":"vapourO_velocity","v":25.262689379665922}]
[null,49,"Total weight (no liquid)",null,null,null,null,null,null,null,null,"kg",null,null,{"$f":"O55+O57+O56","v":977.86508194407622},null,null,null,null,null,null,null,"RhoV2",null,null,null,null,null,null,"Pa",null,null,{"$f":"rhov2_Voutlet","v":714.78789165670366}]
[null,50,null,null,null,null,null,null,null,null,null,null,null,null,null,null,null,null,null,null,null,null,"LIQUID OUTLET NOZZLE"]
[null,51,null,null,null,null,null,null,null,null,null,null,null,null,null,null,null,null,null,null,null,null,null,null,null,null,null,null,null,null,null,null,"SELECTED",null,null,null,null,"SUGGESTED"]
[null,52,null,null,null,null,null,null,null,null,null,null,null,null,null,null,null,null,null,null,null,null,"Liq. Outlet nozzle",null,null,null,null,null,null,"mm",null,null,{"$f":"AI26","v":50}]
[null,53,null,null,null,null,null,null,null,null,null,null,null,null,null,null,null,null,null,null,null,null,"Liquid velocity",null,null,null,null,null,null,"m/s",null,null,{"$f":"liquid_velocity_O","v":0.70735530263064594}]
[null,54]
[null,55]
[null,56]
[null,57]
[null,58]
[null,59]
[null,60]
[]
[]
[null,null,null,null,null,null,null,null,null,null,null,null,null,null,null,null,null,null,null,null,"Client",null,null,null,null,null,null,null,null,null,null,"Job"]
[null,null,null,null,null,null,null,null,null,null,null,null,null,null,null,null,null,null,null,null,null,null,null,null,null,null,null,null,null,null,null,"Unit"]
[null,null,null,null,null,null,null,null,null,null,null,null,null,null,null,null,null,null,null,null,"Plant"]
[null,null,null,null,null,null,null,null,null,null,null,null,null,null,null,null,null,null,null,null,null,null,null,null,null,null,null,null,null,null,null,"Sheet",null,null,null,null,2,null,null,"of",null,2]
[null,"V/L SEPARATOR PROCESS CALCULATION SHEET"]
[]
[null,1]
[null,2,null,null,null,null,null,null,null,null,null,null,null,null,null,null,null,null,null,null,null,null,null,null,"DIMENSIONS"]
[null,3,null,null,null,null,null,null,null,null,null,null,null,null,null,null,null,null,null,null,null,null,null,null,"Shell internal Diameter",null,null,null,null,null,null,null,null,"mm",null,null,{"$f":"O45","v":1200}]
[null,4,null,{"$f":"Calculation!B86","v":600},null,null,null,null,null,null,null,null,null,null,null,null,null,null,null,null,null,null,null,null,"Tangent/Tangent height",null,null,null,null,null,null,null,null,"mm",null,null,{"$f":"O46","v":3200}]
[null,5,null,null,null,null,null,null,null,null,null,null,null,null,null,null,null,null,null,null,null,null,null,null,"Total height",null,null,null,null,null,null,null,null,"mm",null,null,{"$f":"O47","v":4400}]
[null,6]
[null,7]
[null,8]
[null,9,null,null,null,null,null,null,null,null,null,null,null,null,null,null,null,null,null,null,null,{"$f":"Distance_dem_UTL","v":500}]
[null,10,null,null,null,null,null,null,null,null,null,null,null,null,null,null,null,null,null,null,null,null,null,null,"DEMISTER"]
[null,11,null,null,null,null,null,null,null,null,null,null,null,null,null,null,null,null,null,null,null,null,null,null,"Type",null,null,null,null,null,null,null,null,"mm",null,null,{"$f":"Demister","v":"Demister"}]
[null,12,null,null,null,null,null,null,null,null,null,null,null,null,null,null,null,null,null,{"$f":"Demister_H","v":150},null,null,null,null,"Height",null,null,null,null,null,null,null,null,"mm",null,null,{"$f":"Demister_H","v":150}]
[null,13,null,null,null,null,{"$f":"AI22","v":1600},null,null,null,null,null,null,null,null,null,null,null,null,null,null,null,null,null,"Diameter",null,null,null,null,null,null,null,null,"mm",null,null,{"$f":"Demister_D","v":1100}]
[null,14,null,null,null,null,null,null,null,null,null,null,{"$f":"Demister_D","v":1100}]
[null,15,null,null,null,null,null,null,null,null,null,null,null,null,null,null,null,null,null,null,null,{"$f":"G90-V86","v":1100}]
[null,16]
[null,17,null,{"$f":"O46","v":3200},null,null,null,null,null,null,null,null,{"$f":"Diameter","v":1200}]
[null,18,null,null,null,null,null,null,null,null,null,null,null,null,null,null,null,null,null,null,null,null,null,null,"OTHER"]
[null,19,null,null,null,null,null,null,null,null,null,null,null,null,null,null,null,null,null,null,null,null,null,null,"Inlet Device",null,null,null,null,null,null,null,null,null,null,null,{"$f":"Inlet_device","v":"Internal deflector"}]
[null,20,null,null,null,null,null,null,null,null,null,null,null,null,null,null,null,null,null,null,null,null,null,null,"Vortex breaker",null,null,null,null,null,null,null,null,null,null,null,{"$f":"AI18","v":"None"}]
[null,21,null,null,null,null,{"$f":"AI21","v":300}]
[null,22]
[null,23,null,null,null,null,null,null,null,null,null,null,"HHLL"]
[null,24]
[null,25,null,null,null,null,{"$f":"K22+K23+K24+K25","v":1000}]
[null,26]
[null,27,null,null,null,null,null,null,null,null,null,null,"LLLL"]
[null,28,null,null,null,null,{"$f":"K26","v":300}]
[null,29]
[null,30]
[null,31,null,{"$f":"Calculation!B87","v":600}]
[null,32]
[null,33]
[null,34]
[null,35]
[null,36]
[null,37]
[null,38]
[null,39]
[null,40,null,null,null,null,null,null,null,null,null,null,null,null,null,null,"All measures are in mm"]
[null,41,"SUGGESTED NOZZLE TABLE"]
[null,42,"ITEM",null,null,"SERVICE",null,null,null,null,null,null,null,null,null,null,null,null,"DIAMETER (mm)",null,null,null,null,"TYPE",null,null,null,"RATING",null,null,null,"FACING",null,null,null,"NOTES"]
[null,43,"N1",null,null,"Process fluid inlet",null,null,null,null,null,null,null,null,null,null,null,null,{"$f":"Inlet_nozzle_DN","v":250},null,null,null,null,null,null,null,null,"PN16",null,null,null,"RF"]
[null,44,"N2",null,null,"Vapour outlet",null,null,null,null,null,null,null,null,null,null,null,null,{"$f":"Outlet_nozzle_DN","v":250},null,null,null,null,null,null,null,null,"PN16",null,null,null,"RF"]
[null,45,"N3",null,null,"Liquid outlet",null,null,null,null,null,null,null,null,null,null,null,null,{"$f":"OutletnozzleL_DN","v":50},null,null,null,null,null,null,null,null,"PN16",null,null,null,"RF"]
[null,46,"N4",null,null,"Vent",null,null,null,null,null,null,null,null,null,null,null,null,{"$f":"M32","v":50},null,null,null,null,null,null,null,null,"PN16",null,null,null,"RF"]
[null,47,"N5",null,null,"Drain",null,null,null,null,null,null,null,null,null,null,null,null,{"$f":"AG32","v":50},null,null,null,null,null,null,null,null,"PN16",null,null,null,"RF"]
[null,48,"N6",null,null,"Steam out",null,null,null,null,null,null,null,null,null,null,null,null,{"$f":"M33","v":50},null,null,null,null,null,null,null,null,"PN16",null,null,null,"RF"]
[null,49,"N7",null,null,"PSV connection",null,null,null,null,null,null,null,null,null,null,null,null,{"$f":"AG34","v":100},null,null,null,null,null,null,null,null,"PN16",null,null,null,"RF"]
[null,50,"N8",null,null,"Pump recycle",null,null,null,null,null,null,null,null,null,null,null,null,{"$f":"M34","v":50},null,null,null,null,null,null,null,null,"PN16",null,null,null,"RF"]
[null,51,"N9",null,null,"Manhole",null,null,null,null,null,null,null,null,null,null,null,null,{"$f":"AG33","v":600},null,null,null,null,null,null,null,null,"PN16",null,null,null,"RF"]
[null,52]
[null,53,"N10",null,null,"Temperature transmitter",null,null,null,null,null,null,null,null,null,null,null,null,"HOLD"]
[null,54,"N11a",null,null,"Level connection",null,null,null,null,null,null,null,null,null,null,null,null,"HOLD",null,null,null,null,"DP Cell"]
[null,55,"N11b",null,null,"Level connection",null,null,null,null,null,null,null,null,null,null,null,null,"HOLD",null,null,null,null,"DP Cell"]
[null,56,"N12a",null,null,"Level connection",null,null,null,null,null,null,null,null,null,null,null,null,"HOLD",null,null,null,null,"DP Cell"]
[null,57,"N12b",null,null,"Level connection",null,null,null,null,null,null,null,null,null,null,null,null,"HOLD",null,null,null,null,"DP Cell"]
[null,58,"N13",null,null,"Pressure transmitter",null,null,null,null,null,null,null,null,null,null,null,null,"HOLD"]
[null,59]
[null,60]
[null,61]
[null,62]

{"sheet":"Calculation","index":1,"n_rows":93,"n_cols":5,"rows_kept":93,"cut":false,"hidden":false,"merged":[]}
["Area",{"$f":"Foglio1!AI9*Foglio1!AI9*PI()/4/10^6","v":1.1309733552923256},"m2"]
["Volume head top",{"$f":"volume_head(top_head,Diameter)","v":0.45238896000000001},"m3"]
["Volume head bottom",{"$f":"volume_head(bottom_head,Diameter)","v":0.45238896000000001},"m3"]
[]
["TLTL height",{"$f":"Foglio1!K22+Foglio1!K23+Foglio1!K24+Foglio1!K25+Foglio1!K26+Foglio1!AI21+Foglio1!AI22","v":3200},"mm"]
["Total height",{"$f":"Foglio1!K22+Foglio1!K23+Foglio1!K24+Foglio1!K25+Foglio1!K26+Foglio1!AI21+Foglio1!AI22+B86+B87","v":4400},"mm"]
["Volume TL-TL",{"$f":"B6/1000*B1","v":4.9762827632862328},"m3"]
["Total volume",{"$f":"VolumeTLTL+volume_head_top+volume_head_bottom","v":5.8810606832862335},"m3"]
[]
["w",{"$f":"massflowL/massflowV*(rhoV/rhoL)^0.5","v":3.3466401061363026E-2}]
["k_critical",{"$f":"k_critical(w_kc)","v":7.0000000000000007E-2}]
["Critical velocity",{"$f":"k_critical2*((rhoL-rhoV)/(rhoV))^0.5","v":2.0904784141435186},"m/s"]
["Max allowable vel",{"$f":"Vc*maxpercVc/100","v":2.0904784141435186},"m/s"]
["Actual velocity",{"$f":"massflowV/rhoV/3600/Area","v":1.0964708932146667},"m/s"]
[]
[]
[]
["dp first trial",{"$f":"20/1000000","v":2.0000000000000002E-5}]
["Re",{"$f":"rhoL*actualvelocity*B18/viscosity_V","v":2.1929417864293339}]
["cre2",{"$f":"c_re_2(rhoV,rhoL,B18,viscosity_V)","v":1.1702526474240005}]
["Cd",{"$f":"C_df(cre_2,B18)","v":200725.99075197018}]
["dropletfinal",{"$f":"droplet(rhoL,rhoV,viscosity_V,actualvelocity)*10^6","v":225.99999999999949}]
[]
[]
["Vol flow inlet",{"$f":"(massflowV/rhoV+massflowL/rhoL)/3600","v":1.2414682539682538},"m3/s"]
["Velocity inlet nozzle",{"$f":"B25/(Inlet_nozzle_DN*Inlet_nozzle_DN*PI()/4/1000000)","v":25.290983591771148},"m/s"]
["Mixed density",{"$f":"(massflowL+massflowV)/(massflowV/rhoV+massflowL/rhoL)","v":2.2374940067124824},"kg/m3"]
["rhov2",{"$f":"mixed_density*inlet_n_vel^2","v":1431.1769081907187},"Pa"]
[]
["Vol flow vap outlet",{"$f":"(massflowV/rhoV)/3600","v":1.2400793650793649},"m3/s"]
["Velocity outlet nozzle",{"$f":"B30/(Outlet_nozzle_DN*Outlet_nozzle_DN*PI()/4/1000000)","v":25.262689379665922},"m/s"]
["Vapour density",{"$f":"(massflowV)/(massflowV/rhoV)","v":1.1200000000000001},"kg/m3"]
["rhov2",{"$f":"Vapour_outlet_density*vapourO_velocity^2","v":714.78789165670366},"Pa"]
[]
["Vol flow liquid outlet",{"$f":"(massflowL/rhoL)/3600","v":1.3888888888888889E-3},"m3/s"]
["Velocity outlet nozzle",{"$f":"B35/(OutletnozzleL_DN*OutletnozzleL_DN*PI()/4/1000000)","v":0.70735530263064594},"m/s"]
["Liquid density",{"$f":"rhoL","v":1000},"kg/m3"]
["rhov2",{"$f":"B37*liquid_velocity_O^2","v":500.35152415969276},"Pa"]
[]
[]
[]
["Hold up times"]
["HHLL-HLL",{"$f":"Foglio1!K22","v":250},"mm"]
["HLL-NLL",{"$f":"Foglio1!K23","v":250},"mm"]
["NLL-LLL",{"$f":"Foglio1!K24","v":250},"mm"]
["LLL-LLLL",{"$f":"Foglio1!K25","v":250},"mm"]
["LLLL-T.L.",{"$f":"Foglio1!K26","v":300},"mm"]
["HHLL-HLL",{"$f":"B43/1000*Area","v":0.28274333882308139},"m3"]
["HLL-NLL",{"$f":"B44/1000*Area","v":0.28274333882308139},"m3"]
["NLL-LLL",{"$f":"B45/1000*Area","v":0.28274333882308139},"m3"]
["LLL-LLLL",{"$f":"B46/1000*Area","v":0.28274333882308139},"m3"]
["LLLL-T.L.",{"$f":"B47/1000*Area","v":0.33929200658769765},"m3"]
["HHLL-HLL",{"$f":"B48/Vol_flow_liquid_outlet/60","v":3.3929200658769769},"min"]
["HLL-NLL",{"$f":"B49/Vol_flow_liquid_outlet/60","v":3.3929200658769769},"min"]
["NLL-LLL",{"$f":"B50/Vol_flow_liquid_outlet/60","v":3.3929200658769769},"min"]
["LLL-LLLL",{"$f":"B51/Vol_flow_liquid_outlet/60","v":3.3929200658769769},"min"]
["LLLL-T.L.",{"$f":"B52/Vol_flow_liquid_outlet/60","v":4.0715040790523718},"min"]
["Liquid level HHLL-TL",{"$f":"B50+B51+B52+B49+B48","v":1.4702653618800232},"m3"]
["Total liquid volume",{"$f":"B58+volume_head_bottom","v":1.9226543218800232},"m3"]
[]
["Inlet nozzle distances"]
["demister",{"$f":"IF(Diameter<=400,300,0.75*Diameter)+Demister_H+Dem_distanceUTL","v":1600},"mm"]
["Dem Distance from UTL",{"$f":"0.5*Demister_D","v":550},"mm"]
["no demister",{"$f":"IF(Diameter<=1200,900,0.75*Diameter)","v":900},"mm"]
["selected",{"$f":"IF(Demister=\"None\",B64,B62)","v":1600},"mm"]
[]
["Inlet distance from HHLL"]
["calculation1",{"$f":"450-Inlet_nozzle_DN/2","v":325},"mm"]
["selected",{"$f":"IF(B68<300,B68,450)","v":450},"mm"]
[]
["Demister/vane pack"]
["Operating pressure",{"$f":"Foglio1!M11","v":1}]
["K",{"$f":"k_r_demister(Op_pressure)","v":0.06},"m/s"]
["Critical velocity",{"$f":"IF(Demister<>\"None\",Demister_K*SQRT((rhoL-rhoV)/rhoV),\"NO DEMISTER\")","v":1.7918386406944442},"m/s"]
["Min. area",{"$f":"IF(Demister<>\"None\",(massflowV/rhoV)/3600/Demister_critV,\"NO DEMISTER\")","v":0.69207089127108024},"m2"]
["Min. diameter",{"$f":"IF(Demister<>\"None\",1000*(4/PI()*B75)^0.5,\"NO DEMISTER\")","v":938.70763634182106},"mm"]
["Actual velocity",{"$f":"IF(Demister<>\"None\",(massflowV/rhoV)/3600/(Demister_D^2*PI()/4/1000000),\"NO DEMISTER\")","v":1.3048909803546449},"m/s"]
["Dropletdiam w dem",{"$f":"IF(Demister=\"Demister\",\"99.5% <10 micron\",IF(Demister=\"Vane pack\",\"99.5%<40 micron\",\"NO DEMISTER\"))","v":"99.5% <10 micron"}]
["Demister height",{"$f":"Demister_H","v":150}]
["Suggested design vel.",{"$f":"IF(Demister_critV=\"NO DEMISTER\",\"NO DEMISTER\",Demister_critV*0.8)","v":1.4334709125555554}]
[]
[]
["Pressure drop demister",{"$f":"3.38*Demister_actV^2*Vapour_outlet_density*Demister_height/100","v":9.6688414883169695},"mmH2O",null,"Utilizza formula da ludvig adattata ad unità di misura SI"]
[]
[]
["Head top height",{"$f":"head_diameter(top_head,Diameter)","v":600},"mm"]
["Head bottom height",{"$f":"head_diameter(bottom_head,Diameter)","v":600},"mm"]
[]
["Weight"]
["Area",{"$f":"(PI()/4*((Diameter+2*Foglio1!O29+2*Foglio1!AI28)/1000)^2)-PI()/4*(Diameter/1000)^2","v":3.0360351404291608E-2},"m2"]
["Shell",{"$f":"B90*TLTL_Height/1000*density_material(Material_shell)","v":762.65202727580515},"kg"]
["Heads top",{"$f":"volume_head(top_head,Diameter+2*Foglio1!AI29+2*Foglio1!AI28)*density_material(Material_shell)-volume_head(top_head,Diameter)*density_material(Material_shell)","v":107.60652733413554},"kg"]
["Heads bottom",{"$f":"volume_head(bottom_head,Diameter+2*Foglio1!AI29+2*Foglio1!AI28)*density_material(Material_shell)-volume_head(bottom_head,Diameter)*density_material(Material_shell)","v":107.60652733413554},"kg"]

{"sheet":"VL+demister","index":2,"n_rows":0,"n_cols":0,"rows_kept":0,"cut":false,"hidden":true,"merged":[]}

{"sheet":"Foglio2","index":3,"n_rows":16,"n_cols":5,"rows_kept":16,"cut":false,"hidden":true,"merged":[]}
["Demister k (snamprogetti)"]
[null,"Kr"]
["X","Y","LogX","K1","K2"]
[1.009E-2,6.0131999999999998E-2,{"$f":"LOG(A4)","v":-1.9961088337630895},{"$f":"0.0484*LOG(A4)+0.1568","v":6.0188332445866466E-2}]
[1.9632E-2,7.4437000000000003E-2,{"$f":"LOG(A5)","v":-1.707035454617071},{"$f":"0.0484*LOG(A5)+0.1568","v":7.4179483996533763E-2}]
[8.1311999999999995E-2,0.10437,-1.0898453566297246,0.10405148473912132]
[9.4745999999999997E-2,0.10702,-1.0234391160785952,0.10726554678179599]
[0.19989000000000001,0.10728,-0.69920893201220113,0.107266]
[0.70413999999999999,0.10728,-0.15234098406429228,0.107266]
[0.90580000000000005,0.10675,-4.2967683653061563E-2,0.107266]
[1,0.10675,0,null,{"$f":" -0.0299*LOG(A11)^3 - 0.0084*LOG(A11)^2 - 0.0032*LOG(A11) + 0.1067","v":0.1067}]
[1.9988999999999999,0.10410999999999999,0.30079106798779881,null,{"$f":" -0.0299*LOG(A12)^3 - 0.0084*LOG(A12)^2 - 0.0032*LOG(A12) + 0.1067","v":0.1041637731965192}]
[3.0232000000000001,0.10013,0.48046687890895812,null,9.990702012637194E-2]
[5.0029000000000003,9.0065999999999993E-2,0.69922182211542394,null,9.0134101697929153E-2]
[7.9147999999999996,7.5496999999999995E-2,0.8984399450993481,null,7.5360612306186098E-2]
[9.9105000000000008,6.5695000000000003E-2,0.99609556586399917,null,6.5626822708572952E-2]